BEGIN:VCALENDAR
VERSION:2.0
BEGIN:VEVENT
DTSTART:20260422T180000Z
DTEND:20260424T200000Z
DTSTAMP:20251021T092050Z
SUMMARY:PLUS+1 DevCon 2026 - Boston
LOCATION:Boston, USA
UID:48708
END:VEVENT
END:VCALENDAR
