BEGIN:VCALENDAR
VERSION:2.0
PRODID:-//AnandChowdhary//calendar-link//EN
BEGIN:VEVENT
DTSTART:20260323T140000Z
DTEND:20260325T160000Z
DTSTAMP:20251021T091831Z
SUMMARY:PLUS+1 DevCon 2026 - Dublin
LOCATION:Dublin, Ireland
UID:63326
END:VEVENT
END:VCALENDAR
